BEGIN:VCALENDAR
VERSION:2.0
PRODID:-//Badgeworth Parish Council//Meeting Calendar//EN
CALSCALE:GREGORIAN
METHOD:PUBLISH
BEGIN:VEVENT
UID:70471-20240711@badgeworthparishcouncil.gov.uk
DTSTAMP:20260420T102351Z
DTSTART;VALUE=DATE:20240711
DTEND;VALUE=DATE:20240712
SUMMARY:Council Meeting &#8211\\; 11 July 2024
DESCRIPTION:Full Council Meeting\nView details: https://badgeworthparishcouncil.gov.uk/meetings/council-meeting-11-july-2024/
URL:https://badgeworthparishcouncil.gov.uk/meetings/council-meeting-11-july-2024/
END:VEVENT
END:VCALENDAR
