BEGIN:VCALENDAR
VERSION:2.0
PRODID:-//Badgeworth Parish Council//Meeting Calendar//EN
CALSCALE:GREGORIAN
METHOD:PUBLISH
BEGIN:VEVENT
UID:70474-20240606@badgeworthparishcouncil.gov.uk
DTSTAMP:20260420T123351Z
DTSTART;VALUE=DATE:20240606
DTEND;VALUE=DATE:20240607
SUMMARY:Extraordinary Council Meeting &#8211\\; 6 June 2024
DESCRIPTION:Extraordinary Meeting\nView details: https://badgeworthparishcouncil.gov.uk/meetings/extraordinary-council-meeting-6-june-2024/
URL:https://badgeworthparishcouncil.gov.uk/meetings/extraordinary-council-meeting-6-june-2024/
END:VEVENT
END:VCALENDAR
