BEGIN:VCALENDAR
VERSION:2.0
PRODID:-//Badgeworth Parish Council//Meeting Calendar//EN
CALSCALE:GREGORIAN
METHOD:PUBLISH
BEGIN:VEVENT
UID:70480-20240314@badgeworthparishcouncil.gov.uk
DTSTAMP:20260420T121007Z
DTSTART;VALUE=DATE:20240314
DTEND;VALUE=DATE:20240315
SUMMARY:Council Meeting &#8211\\; 14 March 2024
DESCRIPTION:Full Council Meeting\nView details: https://badgeworthparishcouncil.gov.uk/meetings/council-meeting-14-march-2024/
URL:https://badgeworthparishcouncil.gov.uk/meetings/council-meeting-14-march-2024/
END:VEVENT
END:VCALENDAR
