BEGIN:VCALENDAR
VERSION:2.0
PRODID:-//Badgeworth Parish Council//Meeting Calendar//EN
CALSCALE:GREGORIAN
METHOD:PUBLISH
BEGIN:VEVENT
UID:70483-20240116@badgeworthparishcouncil.gov.uk
DTSTAMP:20260420T121450Z
DTSTART;VALUE=DATE:20240116
DTEND;VALUE=DATE:20240117
SUMMARY:Council Meeting &#8211\\; 16 January 2024
DESCRIPTION:Full Council Meeting\nView details: https://badgeworthparishcouncil.gov.uk/meetings/council-meeting-16-january-2024/
URL:https://badgeworthparishcouncil.gov.uk/meetings/council-meeting-16-january-2024/
END:VEVENT
END:VCALENDAR
