BEGIN:VCALENDAR
VERSION:2.0
PRODID:-//Badgeworth Parish Council//Meeting Calendar//EN
CALSCALE:GREGORIAN
METHOD:PUBLISH
BEGIN:VEVENT
UID:70486-20230101@badgeworthparishcouncil.gov.uk
DTSTAMP:20260420T121207Z
DTSTART;VALUE=DATE:20230101
DTEND;VALUE=DATE:20230102
SUMMARY:Council Meeting &#8211\\; 2023
DESCRIPTION:Full Council Meeting\nView details: https://badgeworthparishcouncil.gov.uk/meetings/council-meeting-2023/
URL:https://badgeworthparishcouncil.gov.uk/meetings/council-meeting-2023/
END:VEVENT
END:VCALENDAR
