BEGIN:VCALENDAR
VERSION:2.0
PRODID:-//Badgeworth Parish Council//Meeting Calendar//EN
CALSCALE:GREGORIAN
METHOD:PUBLISH
BEGIN:VEVENT
UID:70499-20240516@badgeworthparishcouncil.gov.uk
DTSTAMP:20260420T082714Z
DTSTART;VALUE=DATE:20240516
DTEND;VALUE=DATE:20240517
SUMMARY:Annual Parish Council Assembly &#8211\\; 16 May 2023
DESCRIPTION:Annual Parish Meeting\nView details: https://badgeworthparishcouncil.gov.uk/meetings/annual-parish-council-meeting-16-may-2023/
URL:https://badgeworthparishcouncil.gov.uk/meetings/annual-parish-council-meeting-16-may-2023/
END:VEVENT
END:VCALENDAR
