BEGIN:VCALENDAR
VERSION:2.0
PRODID:-//Badgeworth Parish Council//Meeting Calendar//EN
CALSCALE:GREGORIAN
METHOD:PUBLISH
BEGIN:VEVENT
UID:70502-20220101@badgeworthparishcouncil.gov.uk
DTSTAMP:20260420T121358Z
DTSTART;VALUE=DATE:20220101
DTEND;VALUE=DATE:20220102
SUMMARY:Council Meeting &#8211\\; 2022
DESCRIPTION:Full Council Meeting\nView details: https://badgeworthparishcouncil.gov.uk/meetings/council-meeting-2022/
URL:https://badgeworthparishcouncil.gov.uk/meetings/council-meeting-2022/
END:VEVENT
END:VCALENDAR
