BEGIN:VCALENDAR
VERSION:2.0
PRODID:-//Badgeworth Parish Council//Meeting Calendar//EN
CALSCALE:GREGORIAN
METHOD:PUBLISH
BEGIN:VEVENT
UID:70517-20220405@badgeworthparishcouncil.gov.uk
DTSTAMP:20260424T082337Z
DTSTART;VALUE=DATE:20220405
DTEND;VALUE=DATE:20220406
SUMMARY:Annual Parish Council Meeting &#8211\\; 5 April 2022
DESCRIPTION:Annual Parish Meeting\nView details: https://badgeworthparishcouncil.gov.uk/meetings/annual-parish-council-meeting-5-april-2022/
URL:https://badgeworthparishcouncil.gov.uk/meetings/annual-parish-council-meeting-5-april-2022/
END:VEVENT
END:VCALENDAR
