BEGIN:VCALENDAR
VERSION:2.0
PRODID:-//Badgeworth Parish Council//Meeting Calendar//EN
CALSCALE:GREGORIAN
METHOD:PUBLISH
BEGIN:VEVENT
UID:70536-20210420@badgeworthparishcouncil.gov.uk
DTSTAMP:20260420T102201Z
DTSTART;VALUE=DATE:20210420
DTEND;VALUE=DATE:20210421
SUMMARY:Annual Parish Council Meeting &#8211\\; 20 April 2021
DESCRIPTION:Annual Parish Meeting\nView details: https://badgeworthparishcouncil.gov.uk/meetings/annual-parish-council-meeting-20-april-2021/
URL:https://badgeworthparishcouncil.gov.uk/meetings/annual-parish-council-meeting-20-april-2021/
END:VEVENT
END:VCALENDAR
