BEGIN:VCALENDAR
VERSION:2.0
PRODID:-//Badgeworth Parish Council//Meeting Calendar//EN
CALSCALE:GREGORIAN
METHOD:PUBLISH
BEGIN:VEVENT
UID:70723-20250313@badgeworthparishcouncil.gov.uk
DTSTAMP:20260420T082701Z
DTSTART;VALUE=DATE:20250313
DTEND;VALUE=DATE:20250314
SUMMARY:Annual Parish Assembly 13th March 2025 7.00pm
DESCRIPTION:Annual Parish Meeting\nView details: https://badgeworthparishcouncil.gov.uk/meetings/annual-parish-assembly-7-00pm/
URL:https://badgeworthparishcouncil.gov.uk/meetings/annual-parish-assembly-7-00pm/
END:VEVENT
END:VCALENDAR
