BEGIN:VCALENDAR
VERSION:2.0
PRODID:-//Badgeworth Parish Council//Meeting Calendar//EN
CALSCALE:GREGORIAN
METHOD:PUBLISH
BEGIN:VEVENT
UID:70731-20190101@badgeworthparishcouncil.gov.uk
DTSTAMP:20260420T082619Z
DTSTART;VALUE=DATE:20190101
DTEND;VALUE=DATE:20190102
SUMMARY:Council Meeting &#8211\\; 2019
DESCRIPTION:Full Council Meeting\nView details: https://badgeworthparishcouncil.gov.uk/meetings/meeting-name-here/
URL:https://badgeworthparishcouncil.gov.uk/meetings/meeting-name-here/
END:VEVENT
END:VCALENDAR
