BEGIN:VCALENDAR
VERSION:2.0
PRODID:-//Badgeworth Parish Council//Meeting Calendar//EN
CALSCALE:GREGORIAN
METHOD:PUBLISH
BEGIN:VEVENT
UID:70802-20240314@badgeworthparishcouncil.gov.uk
DTSTAMP:20260424T082337Z
DTSTART;VALUE=DATE:20240314
DTEND;VALUE=DATE:20240315
SUMMARY:Annual Parish Assembly &#8211\\; 14th March 2024
DESCRIPTION:Annual Parish Meeting\nView details: https://badgeworthparishcouncil.gov.uk/meetings/annual-parish-assembly-2024/
URL:https://badgeworthparishcouncil.gov.uk/meetings/annual-parish-assembly-2024/
END:VEVENT
END:VCALENDAR
