BEGIN:VCALENDAR
VERSION:2.0
PRODID:-//Badgeworth Parish Council//Meeting Calendar//EN
CALSCALE:GREGORIAN
METHOD:PUBLISH
BEGIN:VEVENT
UID:70819-20170525@badgeworthparishcouncil.gov.uk
DTSTAMP:20260420T082618Z
DTSTART;VALUE=DATE:20170525
DTEND;VALUE=DATE:20170526
SUMMARY:Annual Parish Assembly 2017
DESCRIPTION:Annual Parish Meeting\nView details: https://badgeworthparishcouncil.gov.uk/meetings/annual-parish-assembly-2017/
URL:https://badgeworthparishcouncil.gov.uk/meetings/annual-parish-assembly-2017/
END:VEVENT
END:VCALENDAR
