BEGIN:VCALENDAR
VERSION:2.0
PRODID:-//Badgeworth Parish Council//Meeting Calendar//EN
CALSCALE:GREGORIAN
METHOD:PUBLISH
BEGIN:VEVENT
UID:70823-20190430@badgeworthparishcouncil.gov.uk
DTSTAMP:20260420T102232Z
DTSTART;VALUE=DATE:20190430
DTEND;VALUE=DATE:20190501
SUMMARY:Annual Parish Assembly 2019
DESCRIPTION:Annual Parish Meeting\nView details: https://badgeworthparishcouncil.gov.uk/meetings/annual-parish-assembly-2019/
URL:https://badgeworthparishcouncil.gov.uk/meetings/annual-parish-assembly-2019/
END:VEVENT
END:VCALENDAR
